BEGIN:VCALENDAR
VERSION:2.0
PRODID:-//CareerSource Research Coast - ECPv6.15.20//NONSGML v1.0//EN
CALSCALE:GREGORIAN
METHOD:PUBLISH
X-WR-CALNAME:CareerSource Research Coast
X-ORIGINAL-URL:https://careersourcerc.com
X-WR-CALDESC:Events for CareerSource Research Coast
REFRESH-INTERVAL;VALUE=DURATION:PT1H
X-Robots-Tag:noindex
X-PUBLISHED-TTL:PT1H
BEGIN:VTIMEZONE
TZID:America/New_York
BEGIN:DAYLIGHT
TZOFFSETFROM:-0500
TZOFFSETTO:-0400
TZNAME:EDT
DTSTART:20250309T070000
END:DAYLIGHT
BEGIN:STANDARD
TZOFFSETFROM:-0400
TZOFFSETTO:-0500
TZNAME:EST
DTSTART:20251102T060000
END:STANDARD
BEGIN:DAYLIGHT
TZOFFSETFROM:-0500
TZOFFSETTO:-0400
TZNAME:EDT
DTSTART:20260308T070000
END:DAYLIGHT
BEGIN:STANDARD
TZOFFSETFROM:-0400
TZOFFSETTO:-0500
TZNAME:EST
DTSTART:20261101T060000
END:STANDARD
BEGIN:DAYLIGHT
TZOFFSETFROM:-0500
TZOFFSETTO:-0400
TZNAME:EDT
DTSTART:20270314T070000
END:DAYLIGHT
BEGIN:STANDARD
TZOFFSETFROM:-0400
TZOFFSETTO:-0500
TZNAME:EST
DTSTART:20271107T060000
END:STANDARD
END:VTIMEZONE
BEGIN:VEVENT
DTSTART;TZID=America/New_York:20260324T090000
DTEND;TZID=America/New_York:20260324T100000
DTSTAMP:20260420T185802
CREATED:20260227T174531Z
LAST-MODIFIED:20260330T121956Z
UID:10024865-1774342800-1774346400@careersourcerc.com
SUMMARY:Targeted Resume Development - March 2026 - VIRTUAL
DESCRIPTION:This workshop focuses on the development of targeted resumes to enhance job search success by examining the purpose and structure of these crucial documents. Topics include: \n\nUnderstanding Applicant Tracking Systems\nResume Best Practices\, Conventions\, and Layout\nResume Formats\n\nAdditionally\, the workshop concludes with a discussion on cover letters\, which continue to play a vital role in certain job applications. \nWorkshop Interest Form
URL:https://careersourcerc.com/event/targeted-resume-development-march-2026-virtual/2026-03-24/
CATEGORIES:Virtual Workshop,Workshops
ATTACH;FMTTYPE=image/jpeg:https://careersourcerc.com/wp-content/uploads/2024/12/Workshop-Graphic-Targeted-Resume-Development-VIRTUAL.jpg
LOCATION:https://careersourcerc.com/event/targeted-resume-development-march-2026-virtual/2026-03-24/
END:VEVENT
BEGIN:VEVENT
DTSTART;TZID=America/New_York:20260324T103000
DTEND;TZID=America/New_York:20260324T113000
DTSTAMP:20260420T185802
CREATED:20260227T172136Z
LAST-MODIFIED:20260227T172136Z
UID:10024769-1774348200-1774351800@careersourcerc.com
SUMMARY:Interview Skills 2 - Participation - March 2026 - Comp Career Center
DESCRIPTION:Interview Skills 2 – Participation\nThis workshop covers behaviors and activities that are key to your success during the interview itself.  Topics covered include Day of the Interview Considerations\, Body Language\, Answering Interview Questions\, Ending the Interview\, and Follow-up Actions \nWorkshop Interest Form
URL:https://careersourcerc.com/event/interview-skills-2-participation-march-2026-comp-career-center/2026-03-24/
LOCATION:Career Source Research Coast Comprehensive Center\, 4100 Okeechobee Rd.\, Unit 90A\,\, Ft Pierce\, FL\, 34947\, United States
CATEGORIES:Workshops
ATTACH;FMTTYPE=image/jpeg:https://careersourcerc.com/wp-content/uploads/2024/12/Workshop-Graphic-Interview-Skills-Participation-1.jpg
END:VEVENT
BEGIN:VEVENT
DTSTART;TZID=America/New_York:20260324T103000
DTEND;TZID=America/New_York:20260324T113000
DTSTAMP:20260420T185802
CREATED:20260227T172311Z
LAST-MODIFIED:20260227T172311Z
UID:10024773-1774348200-1774351800@careersourcerc.com
SUMMARY:Interview Skills 2 - Participation - March 2026 - VIRTUAL
DESCRIPTION:Interview Skills 2-Participation\nThis Workshop covers behaviors and activities key to your success during the interview itself.  Topics covered include Day of the Interview Considerations\, Body Language\, Answering Interview Questions\, Ending the Interview\, and Follow-up Actions \nWorkshop Interest Form
URL:https://careersourcerc.com/event/interview-skills-2-participation-march-2026-virtual/2026-03-24/
CATEGORIES:Virtual Workshop,Workshops
ATTACH;FMTTYPE=image/jpeg:https://careersourcerc.com/wp-content/uploads/2024/12/Workshop-Graphic-Interview-Skills-Participation.jpg
LOCATION:https://careersourcerc.com/event/interview-skills-2-participation-march-2026-virtual/2026-03-24/
END:VEVENT
BEGIN:VEVENT
DTSTART;TZID=America/New_York:20260324T123000
DTEND;TZID=America/New_York:20260324T133000
DTSTAMP:20260420T185802
CREATED:20260227T135035Z
LAST-MODIFIED:20260227T135035Z
UID:10024618-1774355400-1774359000@careersourcerc.com
SUMMARY:Soft Skills for Job Seekers - March 2026 – Virtual
DESCRIPTION:Soft Skills\nProvides participants with the opportunity to develop essential soft skills necessary for success in the workplace.  Topics covered include interpersonal Communication\, Teamwork\, Professionalism\, Problem Solving\, Stress Management\, and Time Management.  Content and activities are designed to allow the student to understand the components of each soft skill covered and to also appreciate why those behaviors are essential in establishing and maintaining work relationships. \nWorkshop Interest Form
URL:https://careersourcerc.com/event/soft-skills-for-job-seekers-march-2026-virtual/2026-03-24/
CATEGORIES:Virtual Workshop,Workshops
ATTACH;FMTTYPE=image/jpeg:https://careersourcerc.com/wp-content/uploads/2024/09/Workshop-Graphic-Soft-Skills-VIRTUAL.jpg
LOCATION:https://outlook.office.com/book/CSRCVirtualWorkshopCalendar@careersourcerc.com
END:VEVENT
BEGIN:VEVENT
DTSTART;TZID=America/New_York:20260324T123000
DTEND;TZID=America/New_York:20260324T133000
DTSTAMP:20260420T185802
CREATED:20260227T135116Z
LAST-MODIFIED:20260227T135116Z
UID:10024623-1774355400-1774359000@careersourcerc.com
SUMMARY:Soft Skills for Job Seekers - March 2026 – Comp Career Center
DESCRIPTION:Soft Skills\nProvides participants with the opportunity to develop essential soft skills necessary for success in the workplace.  Topics covered include interpersonal Communication\, Teamwork\, Professionalism\, Problem Solving\, Stress Management\, and Time Management.  Content and activities are designed to allow the student to understand the components of each soft skill covered and to also appreciate why those behaviors are essential in establishing and maintaining work relationships. \nWorkshop Interest Form
URL:https://careersourcerc.com/event/soft-skills-for-job-seekers-march-2026-comp-career-center/2026-03-24/
LOCATION:CareerSource Research Coast Comprehensive Center\, 4100 Okeechobee Rd.\, Unit 90A\,\, Ft Pierce\, 34947\, United States
CATEGORIES:Workshops
ATTACH;FMTTYPE=image/jpeg:https://careersourcerc.com/wp-content/uploads/2025/03/Workshop-Graphic-Soft-Skills.jpg
END:VEVENT
BEGIN:VEVENT
DTSTART;TZID=America/New_York:20260324T140000
DTEND;TZID=America/New_York:20260324T150000
DTSTAMP:20260420T185802
CREATED:20260227T134233Z
LAST-MODIFIED:20260227T134233Z
UID:10024580-1774360800-1774364400@careersourcerc.com
SUMMARY:Online Resources for the Job Seeker - March 2026 - Comp Career Center
DESCRIPTION:Online Resources for the Job Seeker\nThis workshop provides job seekers with the opportunity to become familiar with several websites that can be extremely helpful during job searching.  These workshops include Employ Florida\, O*Net Online\, My Next Move\, GCF Learn Free\, and Alison.com. \nWorkshop Interest Form
URL:https://careersourcerc.com/event/online-resources-for-the-job-seeker-march-2026-comp-career-center/2026-03-24/
LOCATION:Career Source Research Coast Comprehensive Center\, 4100 Okeechobee Rd.\, Unit 90A\,\, Ft Pierce\, FL\, 34947\, United States
CATEGORIES:Workshops
ATTACH;FMTTYPE=image/jpeg:https://careersourcerc.com/wp-content/uploads/2024/12/Workshop-Graphic-Online-Resources-for-the-JobSeeker1.jpg
END:VEVENT
BEGIN:VEVENT
DTSTART;TZID=America/New_York:20260324T140000
DTEND;TZID=America/New_York:20260324T150000
DTSTAMP:20260420T185802
CREATED:20260227T134250Z
LAST-MODIFIED:20260227T134250Z
UID:10024582-1774360800-1774364400@careersourcerc.com
SUMMARY:Online Resources for the Job Seeker - March 2026 - VIRTUAL
DESCRIPTION:Online Resources for the Job Seeker\nThis workshop provides jobseekers with the opportunity to become familiar with several websites that can be extremely helpful during job searching.  These workshops include Employ Florida\, O*Net Online\, My Next Move\, GCF Learn Free\, and Alison.com. \nWorkshop Interest Form
URL:https://careersourcerc.com/event/online-resources-for-the-job-seeker-march-2026-virtual/2026-03-24/
CATEGORIES:Workshops
ATTACH;FMTTYPE=image/jpeg:https://careersourcerc.com/wp-content/uploads/2024/12/Workshop-Graphic-Online-Resources-for-the-JobSeeker.jpg
LOCATION:https://outlook.office.com/book/CSRCVirtualWorkshopCalendar@careersourcerc.com
END:VEVENT
BEGIN:VEVENT
DTSTART;TZID=America/New_York:20260324T153000
DTEND;TZID=America/New_York:20260324T163000
DTSTAMP:20260420T185802
CREATED:20260227T135356Z
LAST-MODIFIED:20260227T135356Z
UID:10024636-1774366200-1774369800@careersourcerc.com
SUMMARY:Virtual Interview Preparation - March 2026 - Comp Career Center
DESCRIPTION:Virtual Interview Preparation\nAlthough in many ways preparing for a Virtual Interview is the same as interviewing face-to-face\, there are some very important differences that will be covered in this workshop.  Topics covered include the Interview Setting\, Technology Needs and Issues\, Dress\, Body language\, Professional Image\, rehearsing for the Virtual Environment\, the Day of the Interview Considerations\, and If Things go Wrong with Equipment. \nWorkshop Interest Form
URL:https://careersourcerc.com/event/virtual-interview-preparation-march-2026-comp-career-center/2026-03-24/
LOCATION:Career Source Research Coast Comprehensive Center\, 4100 Okeechobee Rd.\, Unit 90A\,\, Ft Pierce\, FL\, 34947\, United States
CATEGORIES:Workshops
ATTACH;FMTTYPE=image/jpeg:https://careersourcerc.com/wp-content/uploads/2025/01/Workshop-Graphic-Virtual-Interview-Skills.jpg
END:VEVENT
BEGIN:VEVENT
DTSTART;TZID=America/New_York:20260324T153000
DTEND;TZID=America/New_York:20260324T163000
DTSTAMP:20260420T185802
CREATED:20260227T135434Z
LAST-MODIFIED:20260227T135434Z
UID:10024641-1774366200-1774369800@careersourcerc.com
SUMMARY:Virtual Interview Preparation - March 2026 - Virtual
DESCRIPTION:Virtual Interview Preparation\nAlthough preparing for a Virtual Interview is similar to face-to-face interviewing in many ways\, some important differences will be covered in this workshop.  Topics covered include the Interview Setting\, Technology Needs and Issues\, Dress\, Body language\, Professional Image\, rehearsing for the Virtual Environment\, the Day of the Interview Considerations\, and If Things go Wrong with Equipment. \nWorkshop Interest Form
URL:https://careersourcerc.com/event/virtual-interview-preparation-march-2026-virtual/2026-03-24/
CATEGORIES:Virtual Workshop,Workshops
ATTACH;FMTTYPE=image/jpeg:https://careersourcerc.com/wp-content/uploads/2025/11/Workshop-Graphic-Virtual-Interview-Preparation-Virtual.jpg
LOCATION:https://outlook.office.com/book/CSRCVirtualWorkshopCalendar@careersourcerc.com
END:VEVENT
END:VCALENDAR