BEGIN:VCALENDAR
VERSION:2.0
PRODID:-//CareerSource Research Coast - ECPv6.15.20//NONSGML v1.0//EN
CALSCALE:GREGORIAN
METHOD:PUBLISH
X-ORIGINAL-URL:https://careersourcerc.com
X-WR-CALDESC:Events for CareerSource Research Coast
REFRESH-INTERVAL;VALUE=DURATION:PT1H
X-Robots-Tag:noindex
X-PUBLISHED-TTL:PT1H
BEGIN:VTIMEZONE
TZID:America/New_York
BEGIN:DAYLIGHT
TZOFFSETFROM:-0500
TZOFFSETTO:-0400
TZNAME:EDT
DTSTART:20250309T070000
END:DAYLIGHT
BEGIN:STANDARD
TZOFFSETFROM:-0400
TZOFFSETTO:-0500
TZNAME:EST
DTSTART:20251102T060000
END:STANDARD
BEGIN:DAYLIGHT
TZOFFSETFROM:-0500
TZOFFSETTO:-0400
TZNAME:EDT
DTSTART:20260308T070000
END:DAYLIGHT
BEGIN:STANDARD
TZOFFSETFROM:-0400
TZOFFSETTO:-0500
TZNAME:EST
DTSTART:20261101T060000
END:STANDARD
BEGIN:DAYLIGHT
TZOFFSETFROM:-0500
TZOFFSETTO:-0400
TZNAME:EDT
DTSTART:20270314T070000
END:DAYLIGHT
BEGIN:STANDARD
TZOFFSETFROM:-0400
TZOFFSETTO:-0500
TZNAME:EST
DTSTART:20271107T060000
END:STANDARD
END:VTIMEZONE
BEGIN:VEVENT
DTSTART;TZID=America/New_York:20260330T090000
DTEND;TZID=America/New_York:20260330T100000
DTSTAMP:20260420T131026
CREATED:20260227T174401Z
LAST-MODIFIED:20260227T175318Z
UID:10024802-1774861200-1774864800@careersourcerc.com
SUMMARY:Targeted Resume Development - March 2026 - Comp Career Center
DESCRIPTION:Targeted Resume Development\nThis workshop focuses on developing targeted resumes to enhance job search success by examining the purpose and structure of these crucial documents. Topics include: \n\nUnderstanding Applicant Tracking Systems\nResume Best Practices\, Conventions\, and Layout\nResume Formats\n\nAdditionally\, the workshop concludes with a discussion on cover letters\, which continue to play a vital role in certain job applications. \nWorkshop Registration
URL:https://careersourcerc.com/event/targeted-resume-development-march-2026-comp-career-center/2026-03-30/
LOCATION:Career Source Research Coast Comprehensive Center\, 4100 Okeechobee Rd.\, Unit 90A\,\, Ft Pierce\, FL\, 34947\, United States
CATEGORIES:Workshops
ATTACH;FMTTYPE=image/jpeg:https://careersourcerc.com/wp-content/uploads/2024/11/Workshop-Graphic-Targeted-Resume-Development.jpg
END:VEVENT
BEGIN:VEVENT
DTSTART;TZID=America/New_York:20260330T090000
DTEND;TZID=America/New_York:20260330T100000
DTSTAMP:20260420T131026
CREATED:20260227T174531Z
LAST-MODIFIED:20260330T121956Z
UID:10024810-1774861200-1774864800@careersourcerc.com
SUMMARY:Targeted Resume Development - March 2026 - VIRTUAL
DESCRIPTION:This workshop focuses on the development of targeted resumes to enhance job search success by examining the purpose and structure of these crucial documents. Topics include: \n\nUnderstanding Applicant Tracking Systems\nResume Best Practices\, Conventions\, and Layout\nResume Formats\n\nAdditionally\, the workshop concludes with a discussion on cover letters\, which continue to play a vital role in certain job applications. \nWorkshop Interest Form
URL:https://careersourcerc.com/event/targeted-resume-development-march-2026-virtual/2026-03-30/
CATEGORIES:Virtual Workshop,Workshops
ATTACH;FMTTYPE=image/jpeg:https://careersourcerc.com/wp-content/uploads/2024/12/Workshop-Graphic-Targeted-Resume-Development-VIRTUAL.jpg
LOCATION:https://careersourcerc.com/event/targeted-resume-development-march-2026-virtual/2026-03-30/
END:VEVENT
BEGIN:VEVENT
DTSTART;TZID=America/New_York:20260330T103000
DTEND;TZID=America/New_York:20260330T113000
DTSTAMP:20260420T131026
CREATED:20260227T175944Z
LAST-MODIFIED:20260227T175944Z
UID:10024829-1774866600-1774870200@careersourcerc.com
SUMMARY:Job Search Strategies - March 2026 - VIRTUAL
DESCRIPTION:Job Search Strategies\nExperience shows that individuals who have a thorough understanding of the job search process secure employment more effectively than those who do not. Therefore\, we developed this workshop to provide career seekers key information regarding a successful job search process. Topics include organizing for an effective job search; employment planning to include personal assessments and necessary market research; social media considerations; and networking. \nWorkshop Interest Form
URL:https://careersourcerc.com/event/job-search-strategies-march-2026-virtual/2026-03-30/
CATEGORIES:Virtual Workshop,Workshops
ATTACH;FMTTYPE=image/jpeg:https://careersourcerc.com/wp-content/uploads/2024/09/Workshop-Graphic-Job-Search-Strategies-VIRTUAL.jpg
LOCATION:https://careersourcerc.com/event/job-search-strategies-march-2026-virtual/2026-03-30/
END:VEVENT
BEGIN:VEVENT
DTSTART;TZID=America/New_York:20260330T103000
DTEND;TZID=America/New_York:20260330T113000
DTSTAMP:20260420T131026
CREATED:20260227T180022Z
LAST-MODIFIED:20260227T180022Z
UID:10024834-1774866600-1774870200@careersourcerc.com
SUMMARY:Job Search Strategies - March 2026 - Comp Career Center
DESCRIPTION:Job Search Strategies\nExperience shows that individuals who have a thorough understanding of the job search process secure employment more effectively than those who do not. Therefore\, we developed this workshop to provide career seekers with key information regarding a successful job search process. Topics include organizing for an effective job search\, employment planning to include personal assessments and necessary market research\, social media considerations\, and networking. \nWorkshop Interest Form
URL:https://careersourcerc.com/event/job-search-strategies-march-2026-comp-career-center/2026-03-30/
LOCATION:Career Source Research Coast Comprehensive Center\, 4100 Okeechobee Rd.\, Unit 90A\,\, Ft Pierce\, FL\, 34947\, United States
CATEGORIES:Workshops
ATTACH;FMTTYPE=image/jpeg:https://careersourcerc.com/wp-content/uploads/2022/08/Workshop-Graphic-Job-Search-Strategies.jpg
END:VEVENT
BEGIN:VEVENT
DTSTART;TZID=America/New_York:20260330T140000
DTEND;TZID=America/New_York:20260330T150000
DTSTAMP:20260420T131026
CREATED:20260227T133824Z
LAST-MODIFIED:20260227T133824Z
UID:10024569-1774879200-1774882800@careersourcerc.com
SUMMARY:Marketing for the Job Seeker - March 2026 - Comp Career Center
DESCRIPTION:Marketing for the Job Seeker\nToday\, more than ever\, it is essential for job seekers to understand that finding a job is all about effectively marketing their skills and abilities in a targeted and focused way. A targeted job search is research-based and goal-oriented. \nTo assist you in conducting your job search\, this workshop will cover the following topics: \n\nEmployer Expectations\nDeveloping Job Search Goals\nConducting Market Research\n\nWorkshop Interest Form
URL:https://careersourcerc.com/event/marketing-for-the-job-seeker-march-2026-comp-career-center/2026-03-30/
LOCATION:Career Source Research Coast Comprehensive Center\, 4100 Okeechobee Rd.\, Unit 90A\,\, Ft Pierce\, FL\, 34947\, United States
CATEGORIES:Workshops
ATTACH;FMTTYPE=image/jpeg:https://careersourcerc.com/wp-content/uploads/2024/11/Workshop-Graphic-Marketing-for-the-Jobseeker.jpg
END:VEVENT
BEGIN:VEVENT
DTSTART;TZID=America/New_York:20260330T140000
DTEND;TZID=America/New_York:20260330T150000
DTSTAMP:20260420T131026
CREATED:20260227T133908Z
LAST-MODIFIED:20260227T133908Z
UID:10024574-1774879200-1774882800@careersourcerc.com
SUMMARY:Marketing for the Job Seeker - March 2026 - VIRTUAL
DESCRIPTION:Today\, more than ever\, it is essential for job seekers to understand that finding a job is all about effectively marketing their skills and abilities in a targeted and focused way. A targeted job search is research-based and goal-oriented. \nTo assist you in conducting your job search\, this workshop will cover the following topics: \n\nEmployer Expectations\nDeveloping Job Search Goals\nConducting Market Research\n\nWorkshop Interest Form
URL:https://careersourcerc.com/event/marketing-for-the-job-seeker-march-2026-virtual/2026-03-30/
CATEGORIES:Workshops
ATTACH;FMTTYPE=image/jpeg:https://careersourcerc.com/wp-content/uploads/2024/12/Workshop-Graphic-Marketing-for-the-Jobseeker-VIRTUAL.jpg
LOCATION:https://careersourcerc.com/event/marketing-for-the-job-seeker-march-2026-virtual/2026-03-30/
END:VEVENT
BEGIN:VEVENT
DTSTART;TZID=America/New_York:20260330T150000
DTEND;TZID=America/New_York:20260330T160000
DTSTAMP:20260420T131026
CREATED:20260227T171127Z
LAST-MODIFIED:20260227T171253Z
UID:10024756-1774882800-1774886400@careersourcerc.com
SUMMARY:Interview Skills 1-Preparation - March 2026 - VIRTUAL
DESCRIPTION:This Workshop covers key considerations and activities up to the point you arrive at your interview. Topics covered include Employer Expectations\, Types of Interviews\, Research\, Interview Questions\, Documents\, and Dress and Appearance. \nWorkshop Registration
URL:https://careersourcerc.com/event/interview-skills-1-preparation-march-2026-virtual/2026-03-30/
CATEGORIES:Virtual Workshop,Workshops
ATTACH;FMTTYPE=image/jpeg:https://careersourcerc.com/wp-content/uploads/2024/12/Workshop-Graphic-Interview-Skills-Preparation-VIRTUAL.jpg
LOCATION:https://careersourcerc.com/event/interview-skills-1-preparation-march-2026-virtual/2026-03-30/
END:VEVENT
BEGIN:VEVENT
DTSTART;TZID=America/New_York:20260330T150000
DTEND;TZID=America/New_York:20260330T160000
DTSTAMP:20260420T131026
CREATED:20260227T171540Z
LAST-MODIFIED:20260227T171542Z
UID:10024744-1774882800-1774886400@careersourcerc.com
SUMMARY:Interview Skills 1-Preparation - March 2026 - Comp Career Center
DESCRIPTION:Interview Skills 1-Preparation\nThis Workshop covers key considerations and activities up to the point you arrive at your interview. Topics covered include Employer Expectations\, Types of Interviews\, Research\, Interview Questions\, Documents\, and Dress and Appearance. \nWorkshop Interest Form
URL:https://careersourcerc.com/event/interview-skills-1-preparation-march-2026-comp-career-center-4/
LOCATION:Career Source Research Coast Comprehensive Center\, 4100 Okeechobee Rd.\, Unit 90A\,\, Ft Pierce\, FL\, 34947\, United States
CATEGORIES:Workshops
ATTACH;FMTTYPE=image/jpeg:https://careersourcerc.com/wp-content/uploads/2024/11/Workshop-Graphic-Interview-Skills-Preparation.jpg
END:VEVENT
END:VCALENDAR