BEGIN:VCALENDAR
VERSION:2.0
PRODID:-//CareerSource Research Coast - ECPv6.15.20//NONSGML v1.0//EN
CALSCALE:GREGORIAN
METHOD:PUBLISH
X-ORIGINAL-URL:https://careersourcerc.com
X-WR-CALDESC:Events for CareerSource Research Coast
REFRESH-INTERVAL;VALUE=DURATION:PT1H
X-Robots-Tag:noindex
X-PUBLISHED-TTL:PT1H
BEGIN:VTIMEZONE
TZID:America/New_York
BEGIN:DAYLIGHT
TZOFFSETFROM:-0500
TZOFFSETTO:-0400
TZNAME:EDT
DTSTART:20250309T070000
END:DAYLIGHT
BEGIN:STANDARD
TZOFFSETFROM:-0400
TZOFFSETTO:-0500
TZNAME:EST
DTSTART:20251102T060000
END:STANDARD
BEGIN:DAYLIGHT
TZOFFSETFROM:-0500
TZOFFSETTO:-0400
TZNAME:EDT
DTSTART:20260308T070000
END:DAYLIGHT
BEGIN:STANDARD
TZOFFSETFROM:-0400
TZOFFSETTO:-0500
TZNAME:EST
DTSTART:20261101T060000
END:STANDARD
BEGIN:DAYLIGHT
TZOFFSETFROM:-0500
TZOFFSETTO:-0400
TZNAME:EDT
DTSTART:20270314T070000
END:DAYLIGHT
BEGIN:STANDARD
TZOFFSETFROM:-0400
TZOFFSETTO:-0500
TZNAME:EST
DTSTART:20271107T060000
END:STANDARD
END:VTIMEZONE
BEGIN:VEVENT
DTSTART;TZID=America/New_York:20260416T093000
DTEND;TZID=America/New_York:20260416T103000
DTSTAMP:20260420T194841
CREATED:20260330T122817Z
LAST-MODIFIED:20260330T123033Z
UID:10024899-1776331800-1776335400@careersourcerc.com
SUMMARY:Resume Clinic - April 2026 - Virtual
DESCRIPTION:Resume Clinic provides an opportunity for career seekers to obtain help and guidance as they work to develop their targeted resumes.  The Resume Clinic facilitator is there to provide content and formatting assistance to those developing resumes.  The facilitator will also review and provide feedback for those who think a resume is ready for use. \nWorkshop Interest Form
URL:https://careersourcerc.com/event/resume-clinic-april-2026-virtual/2026-04-16/
CATEGORIES:Virtual Workshop,Workshops
ATTACH;FMTTYPE=image/jpeg:https://careersourcerc.com/wp-content/uploads/2025/11/Workshop-Graphic-Resume-Clinic-Virtual.jpg
LOCATION:https://outlook.office.com/book/CSRCVirtualWorkshopCalendar@careersourcerc.com/?ismsaljsauthenabled
END:VEVENT
BEGIN:VEVENT
DTSTART;TZID=America/New_York:20260416T093000
DTEND;TZID=America/New_York:20260416T113000
DTSTAMP:20260420T194841
CREATED:20260330T122928Z
LAST-MODIFIED:20260330T122928Z
UID:10024904-1776331800-1776339000@careersourcerc.com
SUMMARY:Resume Clinic - April 2026 - Comp Career Center
DESCRIPTION:Resume Clinic provides an opportunity for career seekers to obtain help and guidance as they work to develop their targeted resumes.  The Resume Clinic facilitator is there to provide content and formatting assistance to those developing resumes.  The facilitator will also review and provide feedback for those who think a resume is ready for use. \nWorkshop Interest Form
URL:https://careersourcerc.com/event/resume-clinic-april-2026-comp-career-center/2026-04-16/
LOCATION:Career Source Research Coast Comprehensive Center\, 4100 Okeechobee Rd.\, Unit 90A\,\, Ft Pierce\, FL\, 34947\, United States
CATEGORIES:Workshops
ATTACH;FMTTYPE=image/jpeg:https://careersourcerc.com/wp-content/uploads/2024/10/Workshop-Graphic-Resume-Clinic.jpg
END:VEVENT
BEGIN:VEVENT
DTSTART;TZID=America/New_York:20260416T140000
DTEND;TZID=America/New_York:20260416T150000
DTSTAMP:20260420T194841
CREATED:20260330T143917Z
LAST-MODIFIED:20260330T143917Z
UID:10025025-1776348000-1776351600@careersourcerc.com
SUMMARY:Soft Skills for Job Seekers - April 2026 - SLC UP Center
DESCRIPTION:Job Seeker Soft Skills\nProvides participants with the opportunity to develop essential soft skills necessary for success in the workplace.  Topics covered include interpersonal Communication\, Teamwork\, Professionalism\, Problem Solving\, Stress Management\, and Time Management.  Content and activities are designed to allow the student to understand the components of each soft skill covered and to also appreciate why those behaviors are essential in establishing and maintaining work relationships. \nWorkshop Interest Form
URL:https://careersourcerc.com/event/soft-skills-for-job-seekers-april-2026-slc-up-center/
LOCATION:United Against Poverty – Fort Pierce\, 2520 Orange Ave\,\, Fort Pierce\, FL\, 34947\, United States
CATEGORIES:Workshops
ATTACH;FMTTYPE=image/jpeg:https://careersourcerc.com/wp-content/uploads/2025/03/Workshop-Graphic-Soft-Skills.jpg
END:VEVENT
BEGIN:VEVENT
DTSTART;TZID=America/New_York:20260416T150000
DTEND;TZID=America/New_York:20260416T160000
DTSTAMP:20260420T194841
CREATED:20260330T144149Z
LAST-MODIFIED:20260330T144149Z
UID:10025030-1776351600-1776355200@careersourcerc.com
SUMMARY:Targeted Resume Development - April 2026 - SLC UP Center
DESCRIPTION:Targeted Resume Development\nThis workshop focuses on the development of targeted resumes to enhance job search success by examining the purpose and structure of these crucial documents. Topics include: \n\nUnderstanding Applicant Tracking Systems\nResume Best Practices\, Conventions\, and Layout\nResume Formats\n\nAdditionally\, the workshop concludes with a discussion on cover letters\, which continue to play a vital role in certain job applications. \nWorkshop Registration
URL:https://careersourcerc.com/event/targeted-resume-development-april-2026-slc-up-center/
LOCATION:United Against Poverty – Fort Pierce\, 2520 Orange Ave\,\, Fort Pierce\, FL\, 34947\, United States
CATEGORIES:Workshops
ATTACH;FMTTYPE=image/jpeg:https://careersourcerc.com/wp-content/uploads/2024/11/Workshop-Graphic-Targeted-Resume-Development.jpg
END:VEVENT
END:VCALENDAR