BEGIN:VCALENDAR
VERSION:2.0
PRODID:-//CareerSource Research Coast - ECPv6.15.20//NONSGML v1.0//EN
CALSCALE:GREGORIAN
METHOD:PUBLISH
X-WR-CALNAME:CareerSource Research Coast
X-ORIGINAL-URL:https://careersourcerc.com
X-WR-CALDESC:Events for CareerSource Research Coast
REFRESH-INTERVAL;VALUE=DURATION:PT1H
X-Robots-Tag:noindex
X-PUBLISHED-TTL:PT1H
BEGIN:VTIMEZONE
TZID:America/New_York
BEGIN:DAYLIGHT
TZOFFSETFROM:-0500
TZOFFSETTO:-0400
TZNAME:EDT
DTSTART:20250309T070000
END:DAYLIGHT
BEGIN:STANDARD
TZOFFSETFROM:-0400
TZOFFSETTO:-0500
TZNAME:EST
DTSTART:20251102T060000
END:STANDARD
BEGIN:DAYLIGHT
TZOFFSETFROM:-0500
TZOFFSETTO:-0400
TZNAME:EDT
DTSTART:20260308T070000
END:DAYLIGHT
BEGIN:STANDARD
TZOFFSETFROM:-0400
TZOFFSETTO:-0500
TZNAME:EST
DTSTART:20261101T060000
END:STANDARD
BEGIN:DAYLIGHT
TZOFFSETFROM:-0500
TZOFFSETTO:-0400
TZNAME:EDT
DTSTART:20270314T070000
END:DAYLIGHT
BEGIN:STANDARD
TZOFFSETFROM:-0400
TZOFFSETTO:-0500
TZNAME:EST
DTSTART:20271107T060000
END:STANDARD
END:VTIMEZONE
BEGIN:VEVENT
DTSTART;TZID=America/New_York:20260429T080000
DTEND;TZID=America/New_York:20260429T090000
DTSTAMP:20260425T193812
CREATED:20250626T121847Z
LAST-MODIFIED:20250626T121847Z
UID:10023609-1777449600-1777453200@careersourcerc.com
SUMMARY:Board Meeting - PY 2025-26
DESCRIPTION:CareerSource Research Coast Board Meeting. \nPlease check back for a Virtual link to the next meeting\nMeeting Agendas
URL:https://careersourcerc.com/event/board-meeting-py-2025-26/2026-04-29/
LOCATION:100 Okeechobee Road\, Fort Pierce\, FL 34947\, 100 Okeechobee Road\, Fort Pierce\, FL\, 34947\, United States
CATEGORIES:Board Meetings
END:VEVENT
BEGIN:VEVENT
DTSTART;TZID=America/New_York:20260429T090000
DTEND;TZID=America/New_York:20260429T100000
DTSTAMP:20260425T193812
CREATED:20260330T121508Z
LAST-MODIFIED:20260330T121508Z
UID:10024846-1777453200-1777456800@careersourcerc.com
SUMMARY:Targeted Resume Development - April 2026 - Comp Career Center
DESCRIPTION:Targeted Resume Development\nThis workshop focuses on developing targeted resumes to enhance job search success by examining the purpose and structure of these crucial documents. Topics include: \n\nUnderstanding Applicant Tracking Systems\nResume Best Practices\, Conventions\, and Layout\nResume Formats\n\nAdditionally\, the workshop concludes with a discussion on cover letters\, which continue to play a vital role in certain job applications. \nWorkshop Registration
URL:https://careersourcerc.com/event/targeted-resume-development-april-2026-comp-career-center/2026-04-29/
LOCATION:Career Source Research Coast Comprehensive Center\, 4100 Okeechobee Rd.\, Unit 90A\,\, Ft Pierce\, FL\, 34947\, United States
CATEGORIES:Workshops
ATTACH;FMTTYPE=image/jpeg:https://careersourcerc.com/wp-content/uploads/2024/11/Workshop-Graphic-Targeted-Resume-Development.jpg
END:VEVENT
BEGIN:VEVENT
DTSTART;TZID=America/New_York:20260429T090000
DTEND;TZID=America/New_York:20260429T100000
DTSTAMP:20260425T193812
CREATED:20260330T121854Z
LAST-MODIFIED:20260330T121854Z
UID:10024863-1777453200-1777456800@careersourcerc.com
SUMMARY:Targeted Resume Development - April 2026 - VIRTUAL
DESCRIPTION:This workshop focuses on the development of targeted resumes to enhance job search success by examining the purpose and structure of these crucial documents. Topics include: \n\nUnderstanding Applicant Tracking Systems\nResume Best Practices\, Conventions\, and Layout\nResume Formats\n\nAdditionally\, the workshop concludes with a discussion on cover letters\, which continue to play a vital role in certain job applications. \nWorkshop Interest Form
URL:https://careersourcerc.com/event/targeted-resume-development-april-2026-virtual/2026-04-29/
CATEGORIES:Virtual Workshop,Workshops
ATTACH;FMTTYPE=image/jpeg:https://careersourcerc.com/wp-content/uploads/2024/12/Workshop-Graphic-Targeted-Resume-Development-VIRTUAL.jpg
LOCATION:https://careersourcerc.com/event/targeted-resume-development-april-2026-virtual/2026-04-29/
END:VEVENT
BEGIN:VEVENT
DTSTART;TZID=America/New_York:20260429T100000
DTEND;TZID=America/New_York:20260429T120000
DTSTAMP:20260425T193812
CREATED:20260311T192509Z
LAST-MODIFIED:20260311T192613Z
UID:10024836-1777456800-1777464000@careersourcerc.com
SUMMARY:Secure My Future - Job Fair
DESCRIPTION:
URL:https://careersourcerc.com/event/secure-my-future-job-fair/
LOCATION:Martin County School District\, 1939 SE Federal Highway\, Stuart\, 34994\, United States
CATEGORIES:Job Fairs,Job Fairs
ATTACH;FMTTYPE=image/webp:https://careersourcerc.com/wp-content/uploads/2026/03/Secure-My-Future-Flyer.webp
END:VEVENT
BEGIN:VEVENT
DTSTART;TZID=America/New_York:20260429T100000
DTEND;TZID=America/New_York:20260429T130000
DTSTAMP:20260425T193812
CREATED:20260407T163144Z
LAST-MODIFIED:20260407T163144Z
UID:10025039-1777456800-1777467600@careersourcerc.com
SUMMARY:Second Chance Job Fair - Port St. Lucie
DESCRIPTION:
URL:https://careersourcerc.com/event/second-chance-job-fair-port-st-lucie/
LOCATION:First Port St. Lucie SDA Church\, 320 SW Tulip Blvd\, Port St. Lucie\, 34953\, United States
CATEGORIES:Job Fairs,Job Fairs
ATTACH;FMTTYPE=image/png:https://careersourcerc.com/wp-content/uploads/2026/04/Better-Together-Second-Chance-II.png
END:VEVENT
BEGIN:VEVENT
DTSTART;TZID=America/New_York:20260429T103000
DTEND;TZID=America/New_York:20260429T113000
DTSTAMP:20260425T193812
CREATED:20260330T141456Z
LAST-MODIFIED:20260330T141922Z
UID:10024994-1777458600-1777462200@careersourcerc.com
SUMMARY:Interview Skills 1-Preparation - April 2026 - VIRTUAL
DESCRIPTION:This Workshop covers key considerations and activities up to the point you arrive at your interview. Topics covered include Employer Expectations\, Types of Interviews\, Research\, Interview Questions\, Documents\, and Dress and Appearance. \nWorkshop Registration
URL:https://careersourcerc.com/event/interview-skills-1-preparation-april-2026-virtual/2026-04-29/
CATEGORIES:Virtual Workshop,Workshops
ATTACH;FMTTYPE=image/jpeg:https://careersourcerc.com/wp-content/uploads/2024/12/Workshop-Graphic-Interview-Skills-Preparation-VIRTUAL.jpg
LOCATION:https://careersourcerc.com/event/interview-skills-1-preparation-april-2026-virtual/2026-04-29/
END:VEVENT
BEGIN:VEVENT
DTSTART;TZID=America/New_York:20260429T103000
DTEND;TZID=America/New_York:20260429T113000
DTSTAMP:20260425T193812
CREATED:20260330T142254Z
LAST-MODIFIED:20260330T142254Z
UID:10025003-1777458600-1777462200@careersourcerc.com
SUMMARY:Interview Skills 1-Preparation - April 2026 - Comp Career Center
DESCRIPTION:Interview Skills 1-Preparation\nThis Workshop covers key considerations and activities up to the point you arrive at your interview. Topics covered include Employer Expectations\, Types of Interviews\, Research\, Interview Questions\, Documents\, and Dress and Appearance. \nWorkshop Interest Form
URL:https://careersourcerc.com/event/interview-skills-1-preparation-april-2026-comp-career-center/2026-04-29/
LOCATION:Career Source Research Coast Comprehensive Center\, 4100 Okeechobee Rd.\, Unit 90A\,\, Ft Pierce\, FL\, 34947\, United States
CATEGORIES:Workshops
ATTACH;FMTTYPE=image/jpeg:https://careersourcerc.com/wp-content/uploads/2024/11/Workshop-Graphic-Interview-Skills-Preparation.jpg
END:VEVENT
BEGIN:VEVENT
DTSTART;TZID=America/New_York:20260430T093000
DTEND;TZID=America/New_York:20260430T103000
DTSTAMP:20260425T193812
CREATED:20260330T122817Z
LAST-MODIFIED:20260330T123033Z
UID:10024901-1777541400-1777545000@careersourcerc.com
SUMMARY:Resume Clinic - April 2026 - Virtual
DESCRIPTION:Resume Clinic provides an opportunity for career seekers to obtain help and guidance as they work to develop their targeted resumes.  The Resume Clinic facilitator is there to provide content and formatting assistance to those developing resumes.  The facilitator will also review and provide feedback for those who think a resume is ready for use. \nWorkshop Interest Form
URL:https://careersourcerc.com/event/resume-clinic-april-2026-virtual/2026-04-30/
CATEGORIES:Virtual Workshop,Workshops
ATTACH;FMTTYPE=image/jpeg:https://careersourcerc.com/wp-content/uploads/2025/11/Workshop-Graphic-Resume-Clinic-Virtual.jpg
LOCATION:https://outlook.office.com/book/CSRCVirtualWorkshopCalendar@careersourcerc.com/?ismsaljsauthenabled
END:VEVENT
BEGIN:VEVENT
DTSTART;TZID=America/New_York:20260430T093000
DTEND;TZID=America/New_York:20260430T103000
DTSTAMP:20260425T193812
CREATED:20260330T122928Z
LAST-MODIFIED:20260330T122928Z
UID:10024906-1777541400-1777545000@careersourcerc.com
SUMMARY:Resume Clinic - April 2026 - Comp Career Center
DESCRIPTION:Resume Clinic provides an opportunity for career seekers to obtain help and guidance as they work to develop their targeted resumes.  The Resume Clinic facilitator is there to provide content and formatting assistance to those developing resumes.  The facilitator will also review and provide feedback for those who think a resume is ready for use. \nWorkshop Interest Form
URL:https://careersourcerc.com/event/resume-clinic-april-2026-comp-career-center/2026-04-30/
LOCATION:Career Source Research Coast Comprehensive Center\, 4100 Okeechobee Rd.\, Unit 90A\,\, Ft Pierce\, FL\, 34947\, United States
CATEGORIES:Workshops
ATTACH;FMTTYPE=image/jpeg:https://careersourcerc.com/wp-content/uploads/2024/10/Workshop-Graphic-Resume-Clinic.jpg
END:VEVENT
BEGIN:VEVENT
DTSTART;TZID=America/New_York:20260430T140000
DTEND;TZID=America/New_York:20260430T150000
DTSTAMP:20260425T193812
CREATED:20260330T144031Z
LAST-MODIFIED:20260330T144031Z
UID:10025029-1777557600-1777561200@careersourcerc.com
SUMMARY:Job Search Strategies - April 2026 - SLC UP Center
DESCRIPTION:Job Search Strategies\nExperience shows that individuals who have a thorough understanding of the job search process secure employment more effectively than those who do not. Therefore\, we developed this workshop to provide career seekers with key information regarding a successful job search process. Topics include organizing for an effective job search\, employment planning to include personal assessments and necessary market research\, social media considerations\, and networking. \nWorkshop Interest Form
URL:https://careersourcerc.com/event/job-search-strategies-april-2026-slc-up-center/2026-04-30/
LOCATION:United Against Poverty – Fort Pierce\, 2520 Orange Ave\,\, Fort Pierce\, FL\, 34947\, United States
CATEGORIES:Workshops
ATTACH;FMTTYPE=image/jpeg:https://careersourcerc.com/wp-content/uploads/2022/08/Workshop-Graphic-Job-Search-Strategies.jpg
END:VEVENT
BEGIN:VEVENT
DTSTART;TZID=America/New_York:20260513T110000
DTEND;TZID=America/New_York:20260513T140000
DTSTAMP:20260425T193812
CREATED:20260209T180656Z
LAST-MODIFIED:20260209T180657Z
UID:10024555-1778670000-1778680800@careersourcerc.com
SUMMARY:Palm Beach/Research Coast Joint Job Fair
DESCRIPTION:
URL:https://careersourcerc.com/event/palm-beach-research-coast-joint-job-fair/
LOCATION:Indian River State College – Chastain Campus\, 2400 SE Selerno Road\, Stuart\, 34997\, United States
CATEGORIES:Job Fairs,Job Fairs
ATTACH;FMTTYPE=image/webp:https://careersourcerc.com/wp-content/uploads/2026/02/FB-Event-Cover-CSPBC-Joint-Job-Fair.webp
GEO:27.1355595;-80.2201727
X-APPLE-STRUCTURED-LOCATION;VALUE=URI;X-ADDRESS=Indian River State College – Chastain Campus 2400 SE Selerno Road Stuart 34997 United States;X-APPLE-RADIUS=500;X-TITLE=2400 SE Selerno Road:geo:-80.2201727,27.1355595
END:VEVENT
BEGIN:VEVENT
DTSTART;TZID=America/New_York:20260515T080000
DTEND;TZID=America/New_York:20260515T090000
DTSTAMP:20260425T193812
CREATED:20250626T121309Z
LAST-MODIFIED:20250626T121309Z
UID:10023604-1778832000-1778835600@careersourcerc.com
SUMMARY:Executive Committee Meeting - PY2025-26
DESCRIPTION:The Executive Committee meets monthly at 8:00 am on the second Friday after the first Tuesday except for December. \nMeetings will be held online via Teams until further notice.\nOnline meeting links can be located in the Meeting Agenda at the button below\nMeeting Agendas
URL:https://careersourcerc.com/event/executive-committee-meeting-py2025-26/2026-05-15/
CATEGORIES:Board Meetings
LOCATION:https://careersourcerc.com/event/executive-committee-meeting-py2025-26/2026-05-15/
END:VEVENT
BEGIN:VEVENT
DTSTART;TZID=America/New_York:20260522T090000
DTEND;TZID=America/New_York:20260522T100000
DTSTAMP:20260425T193812
CREATED:20260330T121854Z
LAST-MODIFIED:20260330T121854Z
UID:10024864-1779440400-1779444000@careersourcerc.com
SUMMARY:Targeted Resume Development - April 2026 - VIRTUAL
DESCRIPTION:This workshop focuses on the development of targeted resumes to enhance job search success by examining the purpose and structure of these crucial documents. Topics include: \n\nUnderstanding Applicant Tracking Systems\nResume Best Practices\, Conventions\, and Layout\nResume Formats\n\nAdditionally\, the workshop concludes with a discussion on cover letters\, which continue to play a vital role in certain job applications. \nWorkshop Interest Form
URL:https://careersourcerc.com/event/targeted-resume-development-april-2026-virtual/2026-05-22/
CATEGORIES:Virtual Workshop,Workshops
ATTACH;FMTTYPE=image/jpeg:https://careersourcerc.com/wp-content/uploads/2024/12/Workshop-Graphic-Targeted-Resume-Development-VIRTUAL.jpg
LOCATION:https://careersourcerc.com/event/targeted-resume-development-april-2026-virtual/2026-05-22/
END:VEVENT
BEGIN:VEVENT
DTSTART;TZID=America/New_York:20260527T080000
DTEND;TZID=America/New_York:20260527T090000
DTSTAMP:20260425T193812
CREATED:20250626T120907Z
LAST-MODIFIED:20250626T120907Z
UID:10023585-1779868800-1779872400@careersourcerc.com
SUMMARY:Programs & Services Committee Meeting
DESCRIPTION:Click here for meeting agendas one available\nMeeting Information
URL:https://careersourcerc.com/event/programs-services-committee-meeting-2/2026-05-27/
CATEGORIES:Board Meetings
END:VEVENT
BEGIN:VEVENT
DTSTART;TZID=America/New_York:20260604T080000
DTEND;TZID=America/New_York:20260604T090000
DTSTAMP:20260425T193812
CREATED:20250626T122151Z
LAST-MODIFIED:20250626T122151Z
UID:10023617-1780560000-1780563600@careersourcerc.com
SUMMARY:Workforce Readiness Taskforce - PY 2025-26
DESCRIPTION:Workforce Readiness Taskforce meets quarterly on the first Thursday. \nMeetings will be held online via Teams until further notice.\nOnline meeting links\, meeting agendas\, past meeting minutes and reports are available at the link below. \nClick Here
URL:https://careersourcerc.com/event/workforce-readiness-taskforce-py-2025-26/2026-06-04/
CATEGORIES:Board Meetings,Workforce Readiness Taskforce
LOCATION:https://careersourcerc.com/workforce-readiness-taskforce/
END:VEVENT
BEGIN:VEVENT
DTSTART;TZID=America/New_York:20260612T080000
DTEND;TZID=America/New_York:20260612T090000
DTSTAMP:20260425T193812
CREATED:20250626T121309Z
LAST-MODIFIED:20250626T121309Z
UID:10023605-1781251200-1781254800@careersourcerc.com
SUMMARY:Executive Committee Meeting - PY2025-26
DESCRIPTION:The Executive Committee meets monthly at 8:00 am on the second Friday after the first Tuesday except for December. \nMeetings will be held online via Teams until further notice.\nOnline meeting links can be located in the Meeting Agenda at the button below\nMeeting Agendas
URL:https://careersourcerc.com/event/executive-committee-meeting-py2025-26/2026-06-12/
CATEGORIES:Board Meetings
LOCATION:https://careersourcerc.com/event/executive-committee-meeting-py2025-26/2026-06-12/
END:VEVENT
BEGIN:VEVENT
DTSTART;TZID=America/New_York:20260624T080000
DTEND;TZID=America/New_York:20260624T090000
DTSTAMP:20260425T193812
CREATED:20250626T121847Z
LAST-MODIFIED:20250626T121847Z
UID:10023610-1782288000-1782291600@careersourcerc.com
SUMMARY:Board Meeting - PY 2025-26
DESCRIPTION:CareerSource Research Coast Board Meeting. \nPlease check back for a Virtual link to the next meeting\nMeeting Agendas
URL:https://careersourcerc.com/event/board-meeting-py-2025-26/2026-06-24/
LOCATION:100 Okeechobee Road\, Fort Pierce\, FL 34947\, 100 Okeechobee Road\, Fort Pierce\, FL\, 34947\, United States
CATEGORIES:Board Meetings
END:VEVENT
END:VCALENDAR