BEGIN:VCALENDAR
VERSION:2.0
PRODID:-//CareerSource Research Coast - ECPv6.15.20//NONSGML v1.0//EN
CALSCALE:GREGORIAN
METHOD:PUBLISH
X-WR-CALNAME:CareerSource Research Coast
X-ORIGINAL-URL:https://careersourcerc.com
X-WR-CALDESC:Events for CareerSource Research Coast
REFRESH-INTERVAL;VALUE=DURATION:PT1H
X-Robots-Tag:noindex
X-PUBLISHED-TTL:PT1H
BEGIN:VTIMEZONE
TZID:America/New_York
BEGIN:DAYLIGHT
TZOFFSETFROM:-0500
TZOFFSETTO:-0400
TZNAME:EDT
DTSTART:20250309T070000
END:DAYLIGHT
BEGIN:STANDARD
TZOFFSETFROM:-0400
TZOFFSETTO:-0500
TZNAME:EST
DTSTART:20251102T060000
END:STANDARD
BEGIN:DAYLIGHT
TZOFFSETFROM:-0500
TZOFFSETTO:-0400
TZNAME:EDT
DTSTART:20260308T070000
END:DAYLIGHT
BEGIN:STANDARD
TZOFFSETFROM:-0400
TZOFFSETTO:-0500
TZNAME:EST
DTSTART:20261101T060000
END:STANDARD
BEGIN:DAYLIGHT
TZOFFSETFROM:-0500
TZOFFSETTO:-0400
TZNAME:EDT
DTSTART:20270314T070000
END:DAYLIGHT
BEGIN:STANDARD
TZOFFSETFROM:-0400
TZOFFSETTO:-0500
TZNAME:EST
DTSTART:20271107T060000
END:STANDARD
END:VTIMEZONE
BEGIN:VEVENT
DTSTART;TZID=America/New_York:20260219T150000
DTEND;TZID=America/New_York:20260219T160000
DTSTAMP:20260420T225247
CREATED:20260130T193603Z
LAST-MODIFIED:20260130T193603Z
UID:10024550-1771513200-1771516800@careersourcerc.com
SUMMARY:Targeted Resume Development - February 2026 - SLC UP Center
DESCRIPTION:Targeted Resume Development\nThis workshop focuses on the development of targeted resumes to enhance job search success by examining the purpose and structure of these crucial documents. Topics include: \n\nUnderstanding Applicant Tracking Systems\nResume Best Practices\, Conventions\, and Layout\nResume Formats\n\nAdditionally\, the workshop concludes with a discussion on cover letters\, which continue to play a vital role in certain job applications. \nWorkshop Registration
URL:https://careersourcerc.com/event/targeted-resume-development-february-2026-slc-up-center/2026-02-19/
LOCATION:United Against Poverty – Fort Pierce\, 2520 Orange Ave\,\, Fort Pierce\, FL\, 34947\, United States
CATEGORIES:Workshops
ATTACH;FMTTYPE=image/jpeg:https://careersourcerc.com/wp-content/uploads/2024/11/Workshop-Graphic-Targeted-Resume-Development.jpg
END:VEVENT
END:VCALENDAR