BEGIN:VCALENDAR
VERSION:2.0
PRODID:-//CareerSource Research Coast - ECPv6.15.20//NONSGML v1.0//EN
CALSCALE:GREGORIAN
METHOD:PUBLISH
X-WR-CALNAME:CareerSource Research Coast
X-ORIGINAL-URL:https://careersourcerc.com
X-WR-CALDESC:Events for CareerSource Research Coast
REFRESH-INTERVAL;VALUE=DURATION:PT1H
X-Robots-Tag:noindex
X-PUBLISHED-TTL:PT1H
BEGIN:VTIMEZONE
TZID:America/New_York
BEGIN:DAYLIGHT
TZOFFSETFROM:-0500
TZOFFSETTO:-0400
TZNAME:EDT
DTSTART:20250309T070000
END:DAYLIGHT
BEGIN:STANDARD
TZOFFSETFROM:-0400
TZOFFSETTO:-0500
TZNAME:EST
DTSTART:20251102T060000
END:STANDARD
BEGIN:DAYLIGHT
TZOFFSETFROM:-0500
TZOFFSETTO:-0400
TZNAME:EDT
DTSTART:20260308T070000
END:DAYLIGHT
BEGIN:STANDARD
TZOFFSETFROM:-0400
TZOFFSETTO:-0500
TZNAME:EST
DTSTART:20261101T060000
END:STANDARD
BEGIN:DAYLIGHT
TZOFFSETFROM:-0500
TZOFFSETTO:-0400
TZNAME:EDT
DTSTART:20270314T070000
END:DAYLIGHT
BEGIN:STANDARD
TZOFFSETFROM:-0400
TZOFFSETTO:-0500
TZNAME:EST
DTSTART:20271107T060000
END:STANDARD
END:VTIMEZONE
BEGIN:VEVENT
DTSTART;TZID=America/New_York:20260422T090000
DTEND;TZID=America/New_York:20260422T100000
DTSTAMP:20260420T194842
CREATED:20260330T121508Z
LAST-MODIFIED:20260330T121508Z
UID:10024844-1776848400-1776852000@careersourcerc.com
SUMMARY:Targeted Resume Development - April 2026 - Comp Career Center
DESCRIPTION:Targeted Resume Development\nThis workshop focuses on developing targeted resumes to enhance job search success by examining the purpose and structure of these crucial documents. Topics include: \n\nUnderstanding Applicant Tracking Systems\nResume Best Practices\, Conventions\, and Layout\nResume Formats\n\nAdditionally\, the workshop concludes with a discussion on cover letters\, which continue to play a vital role in certain job applications. \nWorkshop Registration
URL:https://careersourcerc.com/event/targeted-resume-development-april-2026-comp-career-center/2026-04-22/
LOCATION:Career Source Research Coast Comprehensive Center\, 4100 Okeechobee Rd.\, Unit 90A\,\, Ft Pierce\, FL\, 34947\, United States
CATEGORIES:Workshops
ATTACH;FMTTYPE=image/jpeg:https://careersourcerc.com/wp-content/uploads/2024/11/Workshop-Graphic-Targeted-Resume-Development.jpg
END:VEVENT
BEGIN:VEVENT
DTSTART;TZID=America/New_York:20260422T090000
DTEND;TZID=America/New_York:20260422T100000
DTSTAMP:20260420T194842
CREATED:20260330T121854Z
LAST-MODIFIED:20260330T121854Z
UID:10024861-1776848400-1776852000@careersourcerc.com
SUMMARY:Targeted Resume Development - April 2026 - VIRTUAL
DESCRIPTION:This workshop focuses on the development of targeted resumes to enhance job search success by examining the purpose and structure of these crucial documents. Topics include: \n\nUnderstanding Applicant Tracking Systems\nResume Best Practices\, Conventions\, and Layout\nResume Formats\n\nAdditionally\, the workshop concludes with a discussion on cover letters\, which continue to play a vital role in certain job applications. \nWorkshop Interest Form
URL:https://careersourcerc.com/event/targeted-resume-development-april-2026-virtual/2026-04-22/
LOCATION:https://careersourcerc.com/event/targeted-resume-development-april-2026-virtual/2026-04-22/
CATEGORIES:Virtual Workshop,Workshops
ATTACH;FMTTYPE=image/jpeg:https://careersourcerc.com/wp-content/uploads/2024/12/Workshop-Graphic-Targeted-Resume-Development-VIRTUAL.jpg
END:VEVENT
BEGIN:VEVENT
DTSTART;TZID=America/New_York:20260427T090000
DTEND;TZID=America/New_York:20260427T100000
DTSTAMP:20260420T194842
CREATED:20260330T121508Z
LAST-MODIFIED:20260330T121508Z
UID:10024845-1777280400-1777284000@careersourcerc.com
SUMMARY:Targeted Resume Development - April 2026 - Comp Career Center
DESCRIPTION:Targeted Resume Development\nThis workshop focuses on developing targeted resumes to enhance job search success by examining the purpose and structure of these crucial documents. Topics include: \n\nUnderstanding Applicant Tracking Systems\nResume Best Practices\, Conventions\, and Layout\nResume Formats\n\nAdditionally\, the workshop concludes with a discussion on cover letters\, which continue to play a vital role in certain job applications. \nWorkshop Registration
URL:https://careersourcerc.com/event/targeted-resume-development-april-2026-comp-career-center/2026-04-27/
LOCATION:Career Source Research Coast Comprehensive Center\, 4100 Okeechobee Rd.\, Unit 90A\,\, Ft Pierce\, FL\, 34947\, United States
CATEGORIES:Workshops
ATTACH;FMTTYPE=image/jpeg:https://careersourcerc.com/wp-content/uploads/2024/11/Workshop-Graphic-Targeted-Resume-Development.jpg
END:VEVENT
BEGIN:VEVENT
DTSTART;TZID=America/New_York:20260427T090000
DTEND;TZID=America/New_York:20260427T100000
DTSTAMP:20260420T194842
CREATED:20260330T121854Z
LAST-MODIFIED:20260330T121854Z
UID:10024862-1777280400-1777284000@careersourcerc.com
SUMMARY:Targeted Resume Development - April 2026 - VIRTUAL
DESCRIPTION:This workshop focuses on the development of targeted resumes to enhance job search success by examining the purpose and structure of these crucial documents. Topics include: \n\nUnderstanding Applicant Tracking Systems\nResume Best Practices\, Conventions\, and Layout\nResume Formats\n\nAdditionally\, the workshop concludes with a discussion on cover letters\, which continue to play a vital role in certain job applications. \nWorkshop Interest Form
URL:https://careersourcerc.com/event/targeted-resume-development-april-2026-virtual/2026-04-27/
LOCATION:https://careersourcerc.com/event/targeted-resume-development-april-2026-virtual/2026-04-27/
CATEGORIES:Virtual Workshop,Workshops
ATTACH;FMTTYPE=image/jpeg:https://careersourcerc.com/wp-content/uploads/2024/12/Workshop-Graphic-Targeted-Resume-Development-VIRTUAL.jpg
END:VEVENT
BEGIN:VEVENT
DTSTART;TZID=America/New_York:20260429T090000
DTEND;TZID=America/New_York:20260429T100000
DTSTAMP:20260420T194842
CREATED:20260330T121508Z
LAST-MODIFIED:20260330T121508Z
UID:10024846-1777453200-1777456800@careersourcerc.com
SUMMARY:Targeted Resume Development - April 2026 - Comp Career Center
DESCRIPTION:Targeted Resume Development\nThis workshop focuses on developing targeted resumes to enhance job search success by examining the purpose and structure of these crucial documents. Topics include: \n\nUnderstanding Applicant Tracking Systems\nResume Best Practices\, Conventions\, and Layout\nResume Formats\n\nAdditionally\, the workshop concludes with a discussion on cover letters\, which continue to play a vital role in certain job applications. \nWorkshop Registration
URL:https://careersourcerc.com/event/targeted-resume-development-april-2026-comp-career-center/2026-04-29/
LOCATION:Career Source Research Coast Comprehensive Center\, 4100 Okeechobee Rd.\, Unit 90A\,\, Ft Pierce\, FL\, 34947\, United States
CATEGORIES:Workshops
ATTACH;FMTTYPE=image/jpeg:https://careersourcerc.com/wp-content/uploads/2024/11/Workshop-Graphic-Targeted-Resume-Development.jpg
END:VEVENT
BEGIN:VEVENT
DTSTART;TZID=America/New_York:20260429T090000
DTEND;TZID=America/New_York:20260429T100000
DTSTAMP:20260420T194842
CREATED:20260330T121854Z
LAST-MODIFIED:20260330T121854Z
UID:10024863-1777453200-1777456800@careersourcerc.com
SUMMARY:Targeted Resume Development - April 2026 - VIRTUAL
DESCRIPTION:This workshop focuses on the development of targeted resumes to enhance job search success by examining the purpose and structure of these crucial documents. Topics include: \n\nUnderstanding Applicant Tracking Systems\nResume Best Practices\, Conventions\, and Layout\nResume Formats\n\nAdditionally\, the workshop concludes with a discussion on cover letters\, which continue to play a vital role in certain job applications. \nWorkshop Interest Form
URL:https://careersourcerc.com/event/targeted-resume-development-april-2026-virtual/2026-04-29/
LOCATION:https://careersourcerc.com/event/targeted-resume-development-april-2026-virtual/2026-04-29/
CATEGORIES:Virtual Workshop,Workshops
ATTACH;FMTTYPE=image/jpeg:https://careersourcerc.com/wp-content/uploads/2024/12/Workshop-Graphic-Targeted-Resume-Development-VIRTUAL.jpg
END:VEVENT
BEGIN:VEVENT
DTSTART;TZID=America/New_York:20260522T090000
DTEND;TZID=America/New_York:20260522T100000
DTSTAMP:20260420T194842
CREATED:20260330T121854Z
LAST-MODIFIED:20260330T121854Z
UID:10024864-1779440400-1779444000@careersourcerc.com
SUMMARY:Targeted Resume Development - April 2026 - VIRTUAL
DESCRIPTION:This workshop focuses on the development of targeted resumes to enhance job search success by examining the purpose and structure of these crucial documents. Topics include: \n\nUnderstanding Applicant Tracking Systems\nResume Best Practices\, Conventions\, and Layout\nResume Formats\n\nAdditionally\, the workshop concludes with a discussion on cover letters\, which continue to play a vital role in certain job applications. \nWorkshop Interest Form
URL:https://careersourcerc.com/event/targeted-resume-development-april-2026-virtual/2026-05-22/
LOCATION:https://careersourcerc.com/event/targeted-resume-development-april-2026-virtual/2026-05-22/
CATEGORIES:Virtual Workshop,Workshops
ATTACH;FMTTYPE=image/jpeg:https://careersourcerc.com/wp-content/uploads/2024/12/Workshop-Graphic-Targeted-Resume-Development-VIRTUAL.jpg
END:VEVENT
END:VCALENDAR