BEGIN:VCALENDAR
VERSION:2.0
PRODID:-//CareerSource Research Coast - ECPv6.15.20//NONSGML v1.0//EN
CALSCALE:GREGORIAN
METHOD:PUBLISH
X-WR-CALNAME:CareerSource Research Coast
X-ORIGINAL-URL:https://careersourcerc.com
X-WR-CALDESC:Events for CareerSource Research Coast
REFRESH-INTERVAL;VALUE=DURATION:PT1H
X-Robots-Tag:noindex
X-PUBLISHED-TTL:PT1H
BEGIN:VTIMEZONE
TZID:America/New_York
BEGIN:DAYLIGHT
TZOFFSETFROM:-0500
TZOFFSETTO:-0400
TZNAME:EDT
DTSTART:20250309T070000
END:DAYLIGHT
BEGIN:STANDARD
TZOFFSETFROM:-0400
TZOFFSETTO:-0500
TZNAME:EST
DTSTART:20251102T060000
END:STANDARD
BEGIN:DAYLIGHT
TZOFFSETFROM:-0500
TZOFFSETTO:-0400
TZNAME:EDT
DTSTART:20260308T070000
END:DAYLIGHT
BEGIN:STANDARD
TZOFFSETFROM:-0400
TZOFFSETTO:-0500
TZNAME:EST
DTSTART:20261101T060000
END:STANDARD
BEGIN:DAYLIGHT
TZOFFSETFROM:-0500
TZOFFSETTO:-0400
TZNAME:EDT
DTSTART:20270314T070000
END:DAYLIGHT
BEGIN:STANDARD
TZOFFSETFROM:-0400
TZOFFSETTO:-0500
TZNAME:EST
DTSTART:20271107T060000
END:STANDARD
END:VTIMEZONE
BEGIN:VEVENT
DTSTART;TZID=America/New_York:20260202T090000
DTEND;TZID=America/New_York:20260202T100000
DTSTAMP:20260421T021406
CREATED:20260130T184710Z
LAST-MODIFIED:20260130T184710Z
UID:10024368-1770022800-1770026400@careersourcerc.com
SUMMARY:Targeted Resume Development - February 2026 - Comp Career Center
DESCRIPTION:Targeted Resume Development\nThis workshop focuses on developing targeted resumes to enhance job search success by examining the purpose and structure of these crucial documents. Topics include: \n\nUnderstanding Applicant Tracking Systems\nResume Best Practices\, Conventions\, and Layout\nResume Formats\n\nAdditionally\, the workshop concludes with a discussion on cover letters\, which continue to play a vital role in certain job applications. \nWorkshop Registration
URL:https://careersourcerc.com/event/targeted-resume-development-february-2026-comp-career-center/2026-02-02/
LOCATION:Career Source Research Coast Comprehensive Center\, 4100 Okeechobee Rd.\, Unit 90A\,\, Ft Pierce\, FL\, 34947\, United States
CATEGORIES:Workshops
ATTACH;FMTTYPE=image/jpeg:https://careersourcerc.com/wp-content/uploads/2024/11/Workshop-Graphic-Targeted-Resume-Development.jpg
END:VEVENT
BEGIN:VEVENT
DTSTART;TZID=America/New_York:20260202T090000
DTEND;TZID=America/New_York:20260202T100000
DTSTAMP:20260421T021406
CREATED:20260130T184913Z
LAST-MODIFIED:20260130T184913Z
UID:10024384-1770022800-1770026400@careersourcerc.com
SUMMARY:Targeted Resume Development - February 2026 - VIRTUAL
DESCRIPTION:This workshop focuses on the development of targeted resumes to enhance job search success by examining the purpose and structure of these crucial documents. Topics include: \n\nUnderstanding Applicant Tracking Systems\nResume Best Practices\, Conventions\, and Layout\nResume Formats\n\nAdditionally\, the workshop concludes with a discussion on cover letters\, which continue to play a vital role in certain job applications. \nWorkshop Interest Form
URL:https://careersourcerc.com/event/targeted-resume-development-february-2026-virtual/2026-02-02/
LOCATION:https://careersourcerc.com/event/targeted-resume-development-february-2026-virtual/2026-02-02/
CATEGORIES:Workshops
ATTACH;FMTTYPE=image/jpeg:https://careersourcerc.com/wp-content/uploads/2024/12/Workshop-Graphic-Targeted-Resume-Development-VIRTUAL.jpg
END:VEVENT
BEGIN:VEVENT
DTSTART;TZID=America/New_York:20260204T090000
DTEND;TZID=America/New_York:20260204T100000
DTSTAMP:20260421T021406
CREATED:20260130T184710Z
LAST-MODIFIED:20260130T184710Z
UID:10024369-1770195600-1770199200@careersourcerc.com
SUMMARY:Targeted Resume Development - February 2026 - Comp Career Center
DESCRIPTION:Targeted Resume Development\nThis workshop focuses on developing targeted resumes to enhance job search success by examining the purpose and structure of these crucial documents. Topics include: \n\nUnderstanding Applicant Tracking Systems\nResume Best Practices\, Conventions\, and Layout\nResume Formats\n\nAdditionally\, the workshop concludes with a discussion on cover letters\, which continue to play a vital role in certain job applications. \nWorkshop Registration
URL:https://careersourcerc.com/event/targeted-resume-development-february-2026-comp-career-center/2026-02-04/
LOCATION:Career Source Research Coast Comprehensive Center\, 4100 Okeechobee Rd.\, Unit 90A\,\, Ft Pierce\, FL\, 34947\, United States
CATEGORIES:Workshops
ATTACH;FMTTYPE=image/jpeg:https://careersourcerc.com/wp-content/uploads/2024/11/Workshop-Graphic-Targeted-Resume-Development.jpg
END:VEVENT
BEGIN:VEVENT
DTSTART;TZID=America/New_York:20260204T090000
DTEND;TZID=America/New_York:20260204T100000
DTSTAMP:20260421T021406
CREATED:20260130T184913Z
LAST-MODIFIED:20260130T184913Z
UID:10024385-1770195600-1770199200@careersourcerc.com
SUMMARY:Targeted Resume Development - February 2026 - VIRTUAL
DESCRIPTION:This workshop focuses on the development of targeted resumes to enhance job search success by examining the purpose and structure of these crucial documents. Topics include: \n\nUnderstanding Applicant Tracking Systems\nResume Best Practices\, Conventions\, and Layout\nResume Formats\n\nAdditionally\, the workshop concludes with a discussion on cover letters\, which continue to play a vital role in certain job applications. \nWorkshop Interest Form
URL:https://careersourcerc.com/event/targeted-resume-development-february-2026-virtual/2026-02-04/
LOCATION:https://careersourcerc.com/event/targeted-resume-development-february-2026-virtual/2026-02-04/
CATEGORIES:Workshops
ATTACH;FMTTYPE=image/jpeg:https://careersourcerc.com/wp-content/uploads/2024/12/Workshop-Graphic-Targeted-Resume-Development-VIRTUAL.jpg
END:VEVENT
END:VCALENDAR