BEGIN:VCALENDAR
VERSION:2.0
PRODID:-//CareerSource Research Coast - ECPv6.15.20//NONSGML v1.0//EN
CALSCALE:GREGORIAN
METHOD:PUBLISH
X-ORIGINAL-URL:https://careersourcerc.com
X-WR-CALDESC:Events for CareerSource Research Coast
REFRESH-INTERVAL;VALUE=DURATION:PT1H
X-Robots-Tag:noindex
X-PUBLISHED-TTL:PT1H
BEGIN:VTIMEZONE
TZID:America/New_York
BEGIN:DAYLIGHT
TZOFFSETFROM:-0500
TZOFFSETTO:-0400
TZNAME:EDT
DTSTART:20250309T070000
END:DAYLIGHT
BEGIN:STANDARD
TZOFFSETFROM:-0400
TZOFFSETTO:-0500
TZNAME:EST
DTSTART:20251102T060000
END:STANDARD
BEGIN:DAYLIGHT
TZOFFSETFROM:-0500
TZOFFSETTO:-0400
TZNAME:EDT
DTSTART:20260308T070000
END:DAYLIGHT
BEGIN:STANDARD
TZOFFSETFROM:-0400
TZOFFSETTO:-0500
TZNAME:EST
DTSTART:20261101T060000
END:STANDARD
BEGIN:DAYLIGHT
TZOFFSETFROM:-0500
TZOFFSETTO:-0400
TZNAME:EDT
DTSTART:20270314T070000
END:DAYLIGHT
BEGIN:STANDARD
TZOFFSETFROM:-0400
TZOFFSETTO:-0500
TZNAME:EST
DTSTART:20271107T060000
END:STANDARD
END:VTIMEZONE
BEGIN:VEVENT
DTSTART;TZID=America/New_York:20260413T090000
DTEND;TZID=America/New_York:20260413T100000
DTSTAMP:20260420T231014
CREATED:20260330T121508Z
LAST-MODIFIED:20260330T121508Z
UID:10024841-1776070800-1776074400@careersourcerc.com
SUMMARY:Targeted Resume Development - April 2026 - Comp Career Center
DESCRIPTION:Targeted Resume Development\nThis workshop focuses on developing targeted resumes to enhance job search success by examining the purpose and structure of these crucial documents. Topics include: \n\nUnderstanding Applicant Tracking Systems\nResume Best Practices\, Conventions\, and Layout\nResume Formats\n\nAdditionally\, the workshop concludes with a discussion on cover letters\, which continue to play a vital role in certain job applications. \nWorkshop Registration
URL:https://careersourcerc.com/event/targeted-resume-development-april-2026-comp-career-center/2026-04-13/
LOCATION:Career Source Research Coast Comprehensive Center\, 4100 Okeechobee Rd.\, Unit 90A\,\, Ft Pierce\, FL\, 34947\, United States
CATEGORIES:Workshops
ATTACH;FMTTYPE=image/jpeg:https://careersourcerc.com/wp-content/uploads/2024/11/Workshop-Graphic-Targeted-Resume-Development.jpg
END:VEVENT
BEGIN:VEVENT
DTSTART;TZID=America/New_York:20260413T090000
DTEND;TZID=America/New_York:20260413T100000
DTSTAMP:20260420T231014
CREATED:20260330T121854Z
LAST-MODIFIED:20260330T121854Z
UID:10024858-1776070800-1776074400@careersourcerc.com
SUMMARY:Targeted Resume Development - April 2026 - VIRTUAL
DESCRIPTION:This workshop focuses on the development of targeted resumes to enhance job search success by examining the purpose and structure of these crucial documents. Topics include: \n\nUnderstanding Applicant Tracking Systems\nResume Best Practices\, Conventions\, and Layout\nResume Formats\n\nAdditionally\, the workshop concludes with a discussion on cover letters\, which continue to play a vital role in certain job applications. \nWorkshop Interest Form
URL:https://careersourcerc.com/event/targeted-resume-development-april-2026-virtual/2026-04-13/
LOCATION:https://careersourcerc.com/event/targeted-resume-development-april-2026-virtual/2026-04-13/
CATEGORIES:Virtual Workshop,Workshops
ATTACH;FMTTYPE=image/jpeg:https://careersourcerc.com/wp-content/uploads/2024/12/Workshop-Graphic-Targeted-Resume-Development-VIRTUAL.jpg
END:VEVENT
BEGIN:VEVENT
DTSTART;TZID=America/New_York:20260415T090000
DTEND;TZID=America/New_York:20260415T100000
DTSTAMP:20260420T231014
CREATED:20260330T121508Z
LAST-MODIFIED:20260330T121508Z
UID:10024842-1776243600-1776247200@careersourcerc.com
SUMMARY:Targeted Resume Development - April 2026 - Comp Career Center
DESCRIPTION:Targeted Resume Development\nThis workshop focuses on developing targeted resumes to enhance job search success by examining the purpose and structure of these crucial documents. Topics include: \n\nUnderstanding Applicant Tracking Systems\nResume Best Practices\, Conventions\, and Layout\nResume Formats\n\nAdditionally\, the workshop concludes with a discussion on cover letters\, which continue to play a vital role in certain job applications. \nWorkshop Registration
URL:https://careersourcerc.com/event/targeted-resume-development-april-2026-comp-career-center/2026-04-15/
LOCATION:Career Source Research Coast Comprehensive Center\, 4100 Okeechobee Rd.\, Unit 90A\,\, Ft Pierce\, FL\, 34947\, United States
CATEGORIES:Workshops
ATTACH;FMTTYPE=image/jpeg:https://careersourcerc.com/wp-content/uploads/2024/11/Workshop-Graphic-Targeted-Resume-Development.jpg
END:VEVENT
BEGIN:VEVENT
DTSTART;TZID=America/New_York:20260415T090000
DTEND;TZID=America/New_York:20260415T100000
DTSTAMP:20260420T231014
CREATED:20260330T121854Z
LAST-MODIFIED:20260330T121854Z
UID:10024859-1776243600-1776247200@careersourcerc.com
SUMMARY:Targeted Resume Development - April 2026 - VIRTUAL
DESCRIPTION:This workshop focuses on the development of targeted resumes to enhance job search success by examining the purpose and structure of these crucial documents. Topics include: \n\nUnderstanding Applicant Tracking Systems\nResume Best Practices\, Conventions\, and Layout\nResume Formats\n\nAdditionally\, the workshop concludes with a discussion on cover letters\, which continue to play a vital role in certain job applications. \nWorkshop Interest Form
URL:https://careersourcerc.com/event/targeted-resume-development-april-2026-virtual/2026-04-15/
LOCATION:https://careersourcerc.com/event/targeted-resume-development-april-2026-virtual/2026-04-15/
CATEGORIES:Virtual Workshop,Workshops
ATTACH;FMTTYPE=image/jpeg:https://careersourcerc.com/wp-content/uploads/2024/12/Workshop-Graphic-Targeted-Resume-Development-VIRTUAL.jpg
END:VEVENT
BEGIN:VEVENT
DTSTART;TZID=America/New_York:20260415T131500
DTEND;TZID=America/New_York:20260415T141500
DTSTAMP:20260420T231014
CREATED:20260330T143129Z
LAST-MODIFIED:20260330T143129Z
UID:10025022-1776258900-1776262500@careersourcerc.com
SUMMARY:Targeted Resume Development - April 2026 - Vero Beach UP Center
DESCRIPTION:Targeted Resume Development\nThis workshop focuses on the development of targeted resumes to enhance job search success by examining the purpose and structure of these crucial documents. Topics include: \n\nUnderstanding Applicant Tracking Systems\nResume Best Practices\, Conventions\, and Layout\nResume Formats\n\nAdditionally\, the workshop concludes with a discussion on cover letters\, which continue to play a vital role in certain job applications. \nWorkshop Registration
URL:https://careersourcerc.com/event/targeted-resume-development-april-2026-vero-beach-up-center/
LOCATION:United Against Poverty  – Vero Beach\, 1400 27th St.\, Vero Beach\, 32960\, United States
CATEGORIES:Workshops
ATTACH;FMTTYPE=image/jpeg:https://careersourcerc.com/wp-content/uploads/2024/11/Workshop-Graphic-Targeted-Resume-Development.jpg
END:VEVENT
BEGIN:VEVENT
DTSTART;TZID=America/New_York:20260416T150000
DTEND;TZID=America/New_York:20260416T160000
DTSTAMP:20260420T231014
CREATED:20260330T144149Z
LAST-MODIFIED:20260330T144149Z
UID:10025030-1776351600-1776355200@careersourcerc.com
SUMMARY:Targeted Resume Development - April 2026 - SLC UP Center
DESCRIPTION:Targeted Resume Development\nThis workshop focuses on the development of targeted resumes to enhance job search success by examining the purpose and structure of these crucial documents. Topics include: \n\nUnderstanding Applicant Tracking Systems\nResume Best Practices\, Conventions\, and Layout\nResume Formats\n\nAdditionally\, the workshop concludes with a discussion on cover letters\, which continue to play a vital role in certain job applications. \nWorkshop Registration
URL:https://careersourcerc.com/event/targeted-resume-development-april-2026-slc-up-center/
LOCATION:United Against Poverty – Fort Pierce\, 2520 Orange Ave\,\, Fort Pierce\, FL\, 34947\, United States
CATEGORIES:Workshops
ATTACH;FMTTYPE=image/jpeg:https://careersourcerc.com/wp-content/uploads/2024/11/Workshop-Graphic-Targeted-Resume-Development.jpg
END:VEVENT
END:VCALENDAR